Package: metaSeq Version: 1.47.0 Command: /Library/Frameworks/R.framework/Resources/bin/R CMD check --install=check:metaSeq.install-out.txt --library=/Library/Frameworks/R.framework/Resources/library --no-vignettes --timings metaSeq_1.47.0.tar.gz StartedAt: 2025-02-03 20:38:02 -0500 (Mon, 03 Feb 2025) EndedAt: 2025-02-03 20:38:28 -0500 (Mon, 03 Feb 2025) EllapsedTime: 26.3 seconds RetCode: 0 Status: OK CheckDir: metaSeq.Rcheck Warnings: 0