Package: metaSeq Version: 1.47.0 Command: /Library/Frameworks/R.framework/Resources/bin/R CMD INSTALL metaSeq StartedAt: 2025-02-09 15:01:40 -0500 (Sun, 09 Feb 2025) EndedAt: 2025-02-09 15:01:47 -0500 (Sun, 09 Feb 2025) EllapsedTime: 6.9 seconds RetCode: 0 Status: OK