Package: metaSeq Version: 1.47.0 Command: /home/biocbuild/R/R/bin/R CMD INSTALL metaSeq StartedAt: 2025-01-29 19:32:03 -0000 (Wed, 29 Jan 2025) EndedAt: 2025-01-29 19:32:21 -0000 (Wed, 29 Jan 2025) EllapsedTime: 18.2 seconds RetCode: 0 Status: OK