Package: metaSeq Version: 1.47.0 Command: /home/biocbuild/bbs-3.21-bioc/R/bin/R CMD build --keep-empty-dirs --no-resave-data metaSeq StartedAt: 2025-02-03 18:10:55 -0500 (Mon, 03 Feb 2025) EndedAt: 2025-02-03 18:11:08 -0500 (Mon, 03 Feb 2025) EllapsedTime: 13.0 seconds RetCode: 0 Status: OK PackageFile: metaSeq_1.47.0.tar.gz PackageFileSize: 6.198 MiB