Package: metaSeq Version: 1.47.0 Command: /home/biocbuild/bbs-3.21-bioc/R/bin/R CMD INSTALL metaSeq StartedAt: 2025-02-09 15:13:19 -0500 (Sun, 09 Feb 2025) EndedAt: 2025-02-09 15:13:25 -0500 (Sun, 09 Feb 2025) EllapsedTime: 6.6 seconds RetCode: 0 Status: OK