Package: metaSeq Version: 1.47.0 Command: rm -rf metaSeq.buildbin-libdir && mkdir metaSeq.buildbin-libdir && E:\biocbuild\bbs-3.21-bioc\R\bin\R.exe CMD INSTALL --build --library=metaSeq.buildbin-libdir metaSeq_1.47.0.tar.gz StartedAt: 2025-02-04 08:20:07 -0500 (Tue, 04 Feb 2025) EndedAt: 2025-02-04 08:20:24 -0500 (Tue, 04 Feb 2025) EllapsedTime: 17.5 seconds RetCode: 0 Status: OK PackageFile: metaSeq_1.47.0.zip PackageFileSize: 6.068 MiB