Package: metaSeq Version: 1.47.0 Command: chmod a+r metaSeq -R && E:\biocbuild\bbs-3.21-bioc\R\bin\R.exe CMD build --keep-empty-dirs --no-resave-data metaSeq StartedAt: 2025-02-03 19:59:29 -0500 (Mon, 03 Feb 2025) EndedAt: 2025-02-03 19:59:52 -0500 (Mon, 03 Feb 2025) EllapsedTime: 22.9 seconds RetCode: 0 Status: OK PackageFile: metaSeq_1.47.0.tar.gz PackageFileSize: 6.084 MiB