Package: metaSeq Version: 1.47.0 Command: E:\biocbuild\bbs-3.21-bioc\R\bin\R.exe CMD check --no-multiarch --install=check:metaSeq.install-out.txt --library=E:\biocbuild\bbs-3.21-bioc\R\library --no-vignettes --timings metaSeq_1.47.0.tar.gz StartedAt: 2025-02-04 03:12:55 -0500 (Tue, 04 Feb 2025) EndedAt: 2025-02-04 03:14:12 -0500 (Tue, 04 Feb 2025) EllapsedTime: 77.2 seconds RetCode: 0 Status: OK CheckDir: metaSeq.Rcheck Warnings: 0