Package: metaSeq Version: 1.47.0 Command: E:\biocbuild\bbs-3.21-bioc\R\bin\R.exe CMD INSTALL metaSeq StartedAt: 2025-02-09 15:24:21 -0500 (Sun, 09 Feb 2025) EndedAt: 2025-02-09 15:24:43 -0500 (Sun, 09 Feb 2025) EllapsedTime: 22.6 seconds RetCode: 0 Status: OK