Package: metabolomicsWorkbenchR Version: 1.17.0 Command: /Library/Frameworks/R.framework/Resources/bin/R CMD build --keep-empty-dirs --no-resave-data metabolomicsWorkbenchR StartedAt: 2025-02-12 16:51:23 -0500 (Wed, 12 Feb 2025) EndedAt: 2025-02-12 16:51:44 -0500 (Wed, 12 Feb 2025) EllapsedTime: 21.3 seconds RetCode: 0 Status: OK PackageFile: metabolomicsWorkbenchR_1.17.0.tar.gz PackageFileSize: 2.399 MiB