Package: metabolomicsWorkbenchR Version: 1.17.0 Command: /Library/Frameworks/R.framework/Resources/bin/R CMD check --install=check:metabolomicsWorkbenchR.install-out.txt --library=/Library/Frameworks/R.framework/Resources/library --no-vignettes --timings metabolomicsWorkbenchR_1.17.0.tar.gz StartedAt: 2025-02-09 19:59:56 -0500 (Sun, 09 Feb 2025) EndedAt: 2025-02-09 20:01:07 -0500 (Sun, 09 Feb 2025) EllapsedTime: 70.9 seconds RetCode: 0 Status: OK CheckDir: metabolomicsWorkbenchR.Rcheck Warnings: 0