Package: metabolomicsWorkbenchR Version: 1.17.0 Command: /home/biocbuild/R/R/bin/R CMD INSTALL metabolomicsWorkbenchR StartedAt: 2025-01-29 19:41:47 -0000 (Wed, 29 Jan 2025) EndedAt: 2025-01-29 19:42:26 -0000 (Wed, 29 Jan 2025) EllapsedTime: 39.0 seconds RetCode: 0 Status: OK