Package: metabolomicsWorkbenchR Version: 1.17.0 Command: /Library/Frameworks/R.framework/Resources/bin/R CMD build --keep-empty-dirs --no-resave-data metabolomicsWorkbenchR StartedAt: 2025-02-09 17:21:37 -0500 (Sun, 09 Feb 2025) EndedAt: 2025-02-09 17:22:36 -0500 (Sun, 09 Feb 2025) EllapsedTime: 58.3 seconds RetCode: 0 Status: OK PackageFile: metabolomicsWorkbenchR_1.17.0.tar.gz PackageFileSize: 2.399 MiB