Package: metabolomicsWorkbenchR Version: 1.17.0 Command: /Library/Frameworks/R.framework/Resources/bin/R CMD INSTALL metabolomicsWorkbenchR StartedAt: 2025-02-09 15:11:59 -0500 (Sun, 09 Feb 2025) EndedAt: 2025-02-09 15:12:38 -0500 (Sun, 09 Feb 2025) EllapsedTime: 39.2 seconds RetCode: 0 Status: OK