Package: metabolomicsWorkbenchR Version: 1.17.0 Command: /home/biocbuild/bbs-3.21-bioc/R/bin/R CMD check --install=check:metabolomicsWorkbenchR.install-out.txt --library=/home/biocbuild/bbs-3.21-bioc/R/site-library --timings metabolomicsWorkbenchR_1.17.0.tar.gz StartedAt: 2025-02-09 23:55:29 -0500 (Sun, 09 Feb 2025) EndedAt: 2025-02-09 23:58:55 -0500 (Sun, 09 Feb 2025) EllapsedTime: 206.3 seconds RetCode: 0 Status: OK CheckDir: metabolomicsWorkbenchR.Rcheck Warnings: 0