Package: metabolomicsWorkbenchR Version: 1.17.0 Command: rm -rf metabolomicsWorkbenchR.buildbin-libdir && mkdir metabolomicsWorkbenchR.buildbin-libdir && E:\biocbuild\bbs-3.21-bioc\R\bin\R.exe CMD INSTALL --build --library=metabolomicsWorkbenchR.buildbin-libdir metabolomicsWorkbenchR_1.17.0.tar.gz StartedAt: 2025-02-10 08:06:15 -0500 (Mon, 10 Feb 2025) EndedAt: 2025-02-10 08:08:17 -0500 (Mon, 10 Feb 2025) EllapsedTime: 122.6 seconds RetCode: 0 Status: OK PackageFile: metabolomicsWorkbenchR_1.17.0.zip PackageFileSize: 2.292 MiB