Package: metabolomicsWorkbenchR Version: 1.17.0 Command: chmod a+r metabolomicsWorkbenchR -R && E:\biocbuild\bbs-3.21-bioc\R\bin\R.exe CMD build --keep-empty-dirs --no-resave-data metabolomicsWorkbenchR StartedAt: 2025-02-09 19:45:19 -0500 (Sun, 09 Feb 2025) EndedAt: 2025-02-09 19:46:30 -0500 (Sun, 09 Feb 2025) EllapsedTime: 70.9 seconds RetCode: 0 Status: OK PackageFile: metabolomicsWorkbenchR_1.17.0.tar.gz PackageFileSize: 2.317 MiB