Package: metabolomicsWorkbenchR Version: 1.17.0 Command: E:\biocbuild\bbs-3.21-bioc\R\bin\R.exe CMD INSTALL metabolomicsWorkbenchR StartedAt: 2025-02-09 16:20:28 -0500 (Sun, 09 Feb 2025) EndedAt: 2025-02-09 16:22:28 -0500 (Sun, 09 Feb 2025) EllapsedTime: 119.7 seconds RetCode: 0 Status: OK