Package: metahdep Version: 1.65.0 Command: /home/biocbuild/bbs-3.21-bioc/R/bin/R CMD INSTALL metahdep StartedAt: 2025-02-12 15:03:20 -0500 (Wed, 12 Feb 2025) EndedAt: 2025-02-12 15:03:24 -0500 (Wed, 12 Feb 2025) EllapsedTime: 3.5 seconds RetCode: 0 Status: OK