Package: metahdep Version: 1.65.0 Command: rm -rf metahdep.buildbin-libdir && mkdir metahdep.buildbin-libdir && E:\biocbuild\bbs-3.21-bioc\R\bin\R.exe CMD INSTALL --build --library=metahdep.buildbin-libdir metahdep_1.65.0.tar.gz StartedAt: 2025-02-13 08:17:37 -0500 (Thu, 13 Feb 2025) EndedAt: 2025-02-13 08:17:50 -0500 (Thu, 13 Feb 2025) EllapsedTime: 13.1 seconds RetCode: 0 Status: OK PackageFile: metahdep_1.65.0.zip PackageFileSize: 548 KiB