Package: metahdep Version: 1.65.0 Command: chmod a+r metahdep -R && E:\biocbuild\bbs-3.21-bioc\R\bin\R.exe CMD build --keep-empty-dirs --no-resave-data metahdep StartedAt: 2025-02-09 19:46:16 -0500 (Sun, 09 Feb 2025) EndedAt: 2025-02-09 19:46:33 -0500 (Sun, 09 Feb 2025) EllapsedTime: 17.2 seconds RetCode: 0 Status: OK PackageFile: metahdep_1.65.0.tar.gz PackageFileSize: 446.1 KiB