Package: metapod Version: 1.15.0 Command: /Library/Frameworks/R.framework/Resources/bin/R CMD build --keep-empty-dirs --no-resave-data metapod StartedAt: 2025-02-10 16:51:43 -0500 (Mon, 10 Feb 2025) EndedAt: 2025-02-10 16:51:52 -0500 (Mon, 10 Feb 2025) EllapsedTime: 9.1 seconds RetCode: 0 Status: OK PackageFile: metapod_1.15.0.tar.gz PackageFileSize: 323.8 KiB