Package: metapod Version: 1.15.0 Command: /home/biocbuild/R/R/bin/R CMD build --keep-empty-dirs --no-resave-data metapod StartedAt: 2025-01-29 00:09:45 -0000 (Wed, 29 Jan 2025) EndedAt: 2025-01-29 00:10:26 -0000 (Wed, 29 Jan 2025) EllapsedTime: 41.0 seconds RetCode: 0 Status: OK PackageFile: metapod_1.15.0.tar.gz PackageFileSize: 390.9 KiB