Package: metapod Version: 1.15.0 Command: /home/biocbuild/R/R/bin/R CMD INSTALL metapod StartedAt: 2025-01-29 19:31:07 -0000 (Wed, 29 Jan 2025) EndedAt: 2025-01-29 19:31:54 -0000 (Wed, 29 Jan 2025) EllapsedTime: 46.8 seconds RetCode: 0 Status: OK