Package: metapod Version: 1.15.0 Command: /home/biocbuild/bbs-3.21-bioc/R/bin/R CMD build --keep-empty-dirs --no-resave-data metapod StartedAt: 2025-02-10 18:10:19 -0500 (Mon, 10 Feb 2025) EndedAt: 2025-02-10 18:10:44 -0500 (Mon, 10 Feb 2025) EllapsedTime: 25.0 seconds RetCode: 0 Status: OK PackageFile: metapod_1.15.0.tar.gz PackageFileSize: 323.9 KiB