Package: metapod Version: 1.15.0 Command: /home/biocbuild/bbs-3.21-bioc/R/bin/R CMD check --install=check:metapod.install-out.txt --library=/home/biocbuild/bbs-3.21-bioc/R/site-library --timings metapod_1.15.0.tar.gz StartedAt: 2025-02-11 00:06:29 -0500 (Tue, 11 Feb 2025) EndedAt: 2025-02-11 00:06:59 -0500 (Tue, 11 Feb 2025) EllapsedTime: 30.0 seconds RetCode: 0 Status: OK CheckDir: metapod.Rcheck Warnings: 0