Package: metapod Version: 1.15.0 Command: /home/biocbuild/bbs-3.21-bioc/R/bin/R CMD INSTALL metapod StartedAt: 2025-02-10 15:11:28 -0500 (Mon, 10 Feb 2025) EndedAt: 2025-02-10 15:11:53 -0500 (Mon, 10 Feb 2025) EllapsedTime: 25.2 seconds RetCode: 0 Status: OK