Package: metapod Version: 1.15.0 Command: rm -rf metapod.buildbin-libdir && mkdir metapod.buildbin-libdir && E:\biocbuild\bbs-3.21-bioc\R\bin\R.exe CMD INSTALL --build --library=metapod.buildbin-libdir metapod_1.15.0.tar.gz StartedAt: 2025-02-11 08:19:27 -0500 (Tue, 11 Feb 2025) EndedAt: 2025-02-11 08:20:36 -0500 (Tue, 11 Feb 2025) EllapsedTime: 69.5 seconds RetCode: 0 Status: OK PackageFile: metapod_1.15.0.zip PackageFileSize: 825.6 KiB