Package: metapod Version: 1.15.0 Command: chmod a+r metapod -R && E:\biocbuild\bbs-3.21-bioc\R\bin\R.exe CMD build --keep-empty-dirs --no-resave-data metapod StartedAt: 2025-02-10 19:58:45 -0500 (Mon, 10 Feb 2025) EndedAt: 2025-02-10 19:59:29 -0500 (Mon, 10 Feb 2025) EllapsedTime: 44.1 seconds RetCode: 0 Status: OK PackageFile: metapod_1.15.0.tar.gz PackageFileSize: 324 KiB