Package: metapod Version: 1.15.0 Command: E:\biocbuild\bbs-3.21-bioc\R\bin\R.exe CMD INSTALL metapod StartedAt: 2025-02-10 15:29:32 -0500 (Mon, 10 Feb 2025) EndedAt: 2025-02-10 15:33:04 -0500 (Mon, 10 Feb 2025) EllapsedTime: 211.8 seconds RetCode: 0 Status: OK