Package: metapone Version: 1.13.0 Command: rm -rf metapone.buildbin-libdir && mkdir metapone.buildbin-libdir && /Users/biocbuild/BBS/utils/build-universal.sh metapone_1.13.0.tar.gz /Library/Frameworks/R.framework/Resources/bin/R metapone.buildbin-libdir StartedAt: 2025-02-10 01:01:51 -0500 (Mon, 10 Feb 2025) EndedAt: 2025-02-10 01:02:07 -0500 (Mon, 10 Feb 2025) EllapsedTime: 16.3 seconds RetCode: 0 Status: OK PackageFile: metapone_1.13.0.tgz PackageFileSize: 3.794 MiB