Package: metapone Version: 1.13.0 Command: /Library/Frameworks/R.framework/Resources/bin/R CMD build --keep-empty-dirs --no-resave-data metapone StartedAt: 2025-02-03 17:21:37 -0500 (Mon, 03 Feb 2025) EndedAt: 2025-02-03 17:39:18 -0500 (Mon, 03 Feb 2025) EllapsedTime: 1060.6 seconds RetCode: 0 Status: OK PackageFile: metapone_1.13.0.tar.gz PackageFileSize: 3.743 MiB