Package: metapone Version: 1.13.0 Command: /home/biocbuild/bbs-3.21-bioc/R/bin/R CMD build --keep-empty-dirs --no-resave-data metapone StartedAt: 2025-02-09 18:01:43 -0500 (Sun, 09 Feb 2025) EndedAt: 2025-02-09 18:12:29 -0500 (Sun, 09 Feb 2025) EllapsedTime: 645.6 seconds RetCode: 0 Status: OK PackageFile: metapone_1.13.0.tar.gz PackageFileSize: 3.742 MiB