Package: metapone Version: 1.13.0 Command: /home/biocbuild/bbs-3.21-bioc/R/bin/R CMD check --install=check:metapone.install-out.txt --library=/home/biocbuild/bbs-3.21-bioc/R/site-library --timings metapone_1.13.0.tar.gz StartedAt: 2025-02-09 23:57:10 -0500 (Sun, 09 Feb 2025) EndedAt: 2025-02-10 00:10:58 -0500 (Mon, 10 Feb 2025) EllapsedTime: 827.9 seconds RetCode: 0 Status: OK CheckDir: metapone.Rcheck Warnings: 0