Package: metapone Version: 1.13.0 Command: rm -rf metapone.buildbin-libdir && mkdir metapone.buildbin-libdir && E:\biocbuild\bbs-3.21-bioc\R\bin\R.exe CMD INSTALL --build --library=metapone.buildbin-libdir metapone_1.13.0.tar.gz StartedAt: 2025-02-04 08:20:05 -0500 (Tue, 04 Feb 2025) EndedAt: 2025-02-04 08:20:22 -0500 (Tue, 04 Feb 2025) EllapsedTime: 17.1 seconds RetCode: 0 Status: OK PackageFile: metapone_1.13.0.zip PackageFileSize: 3.753 MiB