Package: metapone Version: 1.13.0 Command: chmod a+r metapone -R && E:\biocbuild\bbs-3.21-bioc\R\bin\R.exe CMD build --keep-empty-dirs --no-resave-data metapone StartedAt: 2025-02-09 19:46:42 -0500 (Sun, 09 Feb 2025) EndedAt: 2025-02-09 20:03:24 -0500 (Sun, 09 Feb 2025) EllapsedTime: 1002.4 seconds RetCode: 0 Status: OK PackageFile: metapone_1.13.0.tar.gz PackageFileSize: 3.702 MiB