Package: metapone Version: 1.13.0 Command: E:\biocbuild\bbs-3.21-bioc\R\bin\R.exe CMD INSTALL metapone StartedAt: 2025-02-03 16:08:41 -0500 (Mon, 03 Feb 2025) EndedAt: 2025-02-03 16:09:05 -0500 (Mon, 03 Feb 2025) EllapsedTime: 23.6 seconds RetCode: 0 Status: OK