Package: metaseqR2 Version: 1.19.0 Command: /Library/Frameworks/R.framework/Resources/bin/R CMD check --install=check:metaseqR2.install-out.txt --library=/Library/Frameworks/R.framework/Resources/library --no-vignettes --timings metaseqR2_1.19.0.tar.gz StartedAt: 2025-02-12 20:05:24 -0500 (Wed, 12 Feb 2025) EndedAt: 2025-02-12 20:08:47 -0500 (Wed, 12 Feb 2025) EllapsedTime: 202.3 seconds RetCode: 0 Status: OK CheckDir: metaseqR2.Rcheck Warnings: 0