Package: metaseqR2 Version: 1.19.0 Command: /home/biocbuild/R/R/bin/R CMD INSTALL metaseqR2 StartedAt: 2025-01-29 20:35:53 -0000 (Wed, 29 Jan 2025) EndedAt: 2025-01-29 20:37:40 -0000 (Wed, 29 Jan 2025) EllapsedTime: 107.0 seconds RetCode: 0 Status: OK