Package: metaseqR2 Version: 1.19.0 Command: /home/biocbuild/bbs-3.21-bioc/R/bin/R CMD check --install=check:metaseqR2.install-out.txt --library=/home/biocbuild/bbs-3.21-bioc/R/site-library --timings metaseqR2_1.19.0.tar.gz StartedAt: 2025-02-09 23:57:33 -0500 (Sun, 09 Feb 2025) EndedAt: 2025-02-10 00:14:31 -0500 (Mon, 10 Feb 2025) EllapsedTime: 1018.2 seconds RetCode: 0 Status: OK CheckDir: metaseqR2.Rcheck Warnings: 0