Package: metaseqR2 Version: 1.19.0 Command: rm -rf metaseqR2.buildbin-libdir && mkdir metaseqR2.buildbin-libdir && E:\biocbuild\bbs-3.21-bioc\R\bin\R.exe CMD INSTALL --build --library=metaseqR2.buildbin-libdir metaseqR2_1.19.0.tar.gz StartedAt: 2025-02-10 08:06:50 -0500 (Mon, 10 Feb 2025) EndedAt: 2025-02-10 08:09:07 -0500 (Mon, 10 Feb 2025) EllapsedTime: 136.8 seconds RetCode: 0 Status: OK PackageFile: metaseqR2_1.19.0.zip PackageFileSize: 4.501 MiB