Package: metaseqR2 Version: 1.19.0 Command: E:\biocbuild\bbs-3.21-bioc\R\bin\R.exe CMD check --no-multiarch --install=check:metaseqR2.install-out.txt --library=E:\biocbuild\bbs-3.21-bioc\R\library --no-vignettes --timings metaseqR2_1.19.0.tar.gz StartedAt: 2025-02-10 02:44:53 -0500 (Mon, 10 Feb 2025) EndedAt: 2025-02-10 02:55:11 -0500 (Mon, 10 Feb 2025) EllapsedTime: 618.7 seconds RetCode: 0 Status: OK CheckDir: metaseqR2.Rcheck Warnings: 0