Package: methodical Version: 1.3.0 Command: /Library/Frameworks/R.framework/Resources/bin/R CMD build --keep-empty-dirs --no-resave-data methodical StartedAt: 2025-02-09 16:52:15 -0500 (Sun, 09 Feb 2025) EndedAt: 2025-02-09 16:58:14 -0500 (Sun, 09 Feb 2025) EllapsedTime: 359.1 seconds RetCode: 0 Status: OK PackageFile: methodical_1.3.0.tar.gz PackageFileSize: 4.369 MiB