Package: methodical Version: 1.3.0 Command: /Library/Frameworks/R.framework/Resources/bin/R CMD check --install=check:methodical.install-out.txt --library=/Library/Frameworks/R.framework/Resources/library --no-vignettes --timings methodical_1.3.0.tar.gz StartedAt: 2025-02-09 20:01:51 -0500 (Sun, 09 Feb 2025) EndedAt: 2025-02-09 20:06:07 -0500 (Sun, 09 Feb 2025) EllapsedTime: 255.9 seconds RetCode: 0 Status: WARNINGS CheckDir: methodical.Rcheck Warnings: 1