Package: methodical Version: 1.3.0 Command: /Library/Frameworks/R.framework/Resources/bin/R CMD check --install=check:methodical.install-out.txt --library=/Library/Frameworks/R.framework/Resources/library --no-vignettes --timings methodical_1.3.0.tar.gz StartedAt: 2025-02-12 21:35:06 -0500 (Wed, 12 Feb 2025) EndedAt: 2025-02-12 21:46:12 -0500 (Wed, 12 Feb 2025) EllapsedTime: 665.8 seconds RetCode: 0 Status: WARNINGS CheckDir: methodical.Rcheck Warnings: 1