Package: methodical Version: 1.3.0 Command: /Library/Frameworks/R.framework/Resources/bin/R CMD INSTALL methodical StartedAt: 2025-02-09 15:28:21 -0500 (Sun, 09 Feb 2025) EndedAt: 2025-02-09 15:29:15 -0500 (Sun, 09 Feb 2025) EllapsedTime: 54.1 seconds RetCode: 0 Status: OK