Package: methodical Version: 1.3.0 Command: chmod a+r methodical -R && E:\biocbuild\bbs-3.21-bioc\R\bin\R.exe CMD build --keep-empty-dirs --no-resave-data methodical StartedAt: 2025-01-22 20:08:45 -0500 (Wed, 22 Jan 2025) EndedAt: 2025-01-22 20:48:46 -0500 (Wed, 22 Jan 2025) EllapsedTime: 2400.2 seconds RetCode: None Status: TIMEOUT PackageFile: None PackageFileSize: NA