Package: methyLImp2 Version: 1.3.1 Command: /Library/Frameworks/R.framework/Resources/bin/R CMD INSTALL methyLImp2 StartedAt: 2025-02-12 15:08:43 -0500 (Wed, 12 Feb 2025) EndedAt: 2025-02-12 15:08:51 -0500 (Wed, 12 Feb 2025) EllapsedTime: 8.6 seconds RetCode: 0 Status: OK