Package: methyLImp2 Version: 1.3.1 Command: /Library/Frameworks/R.framework/Resources/bin/R CMD build --keep-empty-dirs --no-resave-data methyLImp2 StartedAt: 2025-02-09 17:23:49 -0500 (Sun, 09 Feb 2025) EndedAt: 2025-02-09 17:24:47 -0500 (Sun, 09 Feb 2025) EllapsedTime: 58.1 seconds RetCode: 0 Status: OK PackageFile: methyLImp2_1.3.1.tar.gz PackageFileSize: 1.261 MiB