Package: methyLImp2 Version: 1.3.1 Command: /Library/Frameworks/R.framework/Resources/bin/R CMD INSTALL methyLImp2 StartedAt: 2025-02-09 15:14:15 -0500 (Sun, 09 Feb 2025) EndedAt: 2025-02-09 15:14:45 -0500 (Sun, 09 Feb 2025) EllapsedTime: 30.0 seconds RetCode: 0 Status: OK